BEGIN:VCALENDAR
VERSION:2.0
PRODID:-//3nity.com//3nity CMS//EN
BEGIN:VEVENT
SUMMARY:Adult Bible Study
UID:2025-07-17-1140526@www.sauktownchurchofchrist.org
SEQUENCE:0
STATUS:CONFIRMED
DTSTART:20250520T180000
DTEND:20250520T193000
DTSTAMP:20161222T120000
LOCATION: Sauktown Church of Christ, 8751 E. 150 N., Mill Creek, IN, IN 46365
DESCRIPTION:Adult Bible Study, this year we will be studying the Book of Psalm.  About 3 chapters per week.  Should be a good year.  Pastor Greg
URL:http://www.sauktownchurchofchrist.org
END:VEVENT
END:VCALENDAR
